BEGIN:VCALENDAR
VERSION:2.0
PRODID:-//Sveriges kristna råd - ECPv6.15.18//NONSGML v1.0//EN
CALSCALE:GREGORIAN
METHOD:PUBLISH
X-WR-CALNAME:Sveriges kristna råd
X-ORIGINAL-URL:https://www.skr.org
X-WR-CALDESC:Händelser för Sveriges kristna råd
REFRESH-INTERVAL;VALUE=DURATION:PT1H
X-Robots-Tag:noindex
X-PUBLISHED-TTL:PT1H
BEGIN:VTIMEZONE
TZID:Europe/Stockholm
BEGIN:DAYLIGHT
TZOFFSETFROM:+0100
TZOFFSETTO:+0200
TZNAME:CEST
DTSTART:20210328T010000
END:DAYLIGHT
BEGIN:STANDARD
TZOFFSETFROM:+0200
TZOFFSETTO:+0100
TZNAME:CET
DTSTART:20211031T010000
END:STANDARD
BEGIN:DAYLIGHT
TZOFFSETFROM:+0100
TZOFFSETTO:+0200
TZNAME:CEST
DTSTART:20220327T010000
END:DAYLIGHT
BEGIN:STANDARD
TZOFFSETFROM:+0200
TZOFFSETTO:+0100
TZNAME:CET
DTSTART:20221030T010000
END:STANDARD
BEGIN:DAYLIGHT
TZOFFSETFROM:+0100
TZOFFSETTO:+0200
TZNAME:CEST
DTSTART:20230326T010000
END:DAYLIGHT
BEGIN:STANDARD
TZOFFSETFROM:+0200
TZOFFSETTO:+0100
TZNAME:CET
DTSTART:20231029T010000
END:STANDARD
END:VTIMEZONE
BEGIN:VEVENT
DTSTART;TZID=Europe/Stockholm:20220510T120000
DTEND;TZID=Europe/Stockholm:20220511T130000
DTSTAMP:20260421T123713
CREATED:20220315T151214Z
LAST-MODIFIED:20220316T150934Z
UID:10000159-1652184000-1652274000@www.skr.org
SUMMARY:Regionala Nav-dagar 2022 - Region Nord
DESCRIPTION:
URL:https://www.skr.org/arrangemang/regionala-nav-dagar-2022-region-nord/
LOCATION:Härnösands folkhögskola
CATEGORIES:Kriminalvården
ATTACH;FMTTYPE=image/jpeg:https://www.skr.org/wp-content/uploads/2022/03/harnosandsfolkhogskola.jpg
END:VEVENT
END:VCALENDAR