BEGIN:VCALENDAR
VERSION:2.0
PRODID:-//Sveriges kristna råd - ECPv6.15.18//NONSGML v1.0//EN
CALSCALE:GREGORIAN
METHOD:PUBLISH
X-WR-CALNAME:Sveriges kristna råd
X-ORIGINAL-URL:https://www.skr.org
X-WR-CALDESC:Händelser för Sveriges kristna råd
REFRESH-INTERVAL;VALUE=DURATION:PT1H
X-Robots-Tag:noindex
X-PUBLISHED-TTL:PT1H
BEGIN:VTIMEZONE
TZID:Europe/Stockholm
BEGIN:DAYLIGHT
TZOFFSETFROM:+0100
TZOFFSETTO:+0200
TZNAME:CEST
DTSTART:20150329T010000
END:DAYLIGHT
BEGIN:STANDARD
TZOFFSETFROM:+0200
TZOFFSETTO:+0100
TZNAME:CET
DTSTART:20151025T010000
END:STANDARD
BEGIN:DAYLIGHT
TZOFFSETFROM:+0100
TZOFFSETTO:+0200
TZNAME:CEST
DTSTART:20160327T010000
END:DAYLIGHT
BEGIN:STANDARD
TZOFFSETFROM:+0200
TZOFFSETTO:+0100
TZNAME:CET
DTSTART:20161030T010000
END:STANDARD
BEGIN:DAYLIGHT
TZOFFSETFROM:+0100
TZOFFSETTO:+0200
TZNAME:CEST
DTSTART:20170326T010000
END:DAYLIGHT
BEGIN:STANDARD
TZOFFSETFROM:+0200
TZOFFSETTO:+0100
TZNAME:CET
DTSTART:20171029T010000
END:STANDARD
BEGIN:DAYLIGHT
TZOFFSETFROM:+0100
TZOFFSETTO:+0200
TZNAME:CEST
DTSTART:20180325T010000
END:DAYLIGHT
BEGIN:STANDARD
TZOFFSETFROM:+0200
TZOFFSETTO:+0100
TZNAME:CET
DTSTART:20181028T010000
END:STANDARD
BEGIN:DAYLIGHT
TZOFFSETFROM:+0100
TZOFFSETTO:+0200
TZNAME:CEST
DTSTART:20190331T010000
END:DAYLIGHT
BEGIN:STANDARD
TZOFFSETFROM:+0200
TZOFFSETTO:+0100
TZNAME:CET
DTSTART:20191027T010000
END:STANDARD
BEGIN:DAYLIGHT
TZOFFSETFROM:+0100
TZOFFSETTO:+0200
TZNAME:CEST
DTSTART:20200329T010000
END:DAYLIGHT
BEGIN:STANDARD
TZOFFSETFROM:+0200
TZOFFSETTO:+0100
TZNAME:CET
DTSTART:20201025T010000
END:STANDARD
BEGIN:DAYLIGHT
TZOFFSETFROM:+0100
TZOFFSETTO:+0200
TZNAME:CEST
DTSTART:20210328T010000
END:DAYLIGHT
BEGIN:STANDARD
TZOFFSETFROM:+0200
TZOFFSETTO:+0100
TZNAME:CET
DTSTART:20211031T010000
END:STANDARD
BEGIN:DAYLIGHT
TZOFFSETFROM:+0100
TZOFFSETTO:+0200
TZNAME:CEST
DTSTART:20220327T010000
END:DAYLIGHT
BEGIN:STANDARD
TZOFFSETFROM:+0200
TZOFFSETTO:+0100
TZNAME:CET
DTSTART:20221030T010000
END:STANDARD
BEGIN:DAYLIGHT
TZOFFSETFROM:+0100
TZOFFSETTO:+0200
TZNAME:CEST
DTSTART:20230326T010000
END:DAYLIGHT
BEGIN:STANDARD
TZOFFSETFROM:+0200
TZOFFSETTO:+0100
TZNAME:CET
DTSTART:20231029T010000
END:STANDARD
END:VTIMEZONE
BEGIN:VEVENT
DTSTART;TZID=Europe/Stockholm:20221201T130000
DTEND;TZID=Europe/Stockholm:20221201T163000
DTSTAMP:20260418T135057
CREATED:20220622T121432Z
LAST-MODIFIED:20221102T122711Z
UID:10000166-1669899600-1669912200@www.skr.org
SUMMARY:Sveriges kristna råd 30 år – Jubileumsseminarium II
DESCRIPTION:Jubileumsseminarium Sveriges kristna råd 30 år –  ”En ekumenisk vision för vår tid”\nUnder de 30 år som Sveriges kristna råd funnits har förutsättningarna för att vara kyrka i Sverige genomgått stora förändringar. En av de mer påtagliga förändringarna är att hela den världsvida bredden av kyrkotraditioner numera finns närvarande i Sverige\, samtidigt som sekulariseringen i den svenska majoritetskulturen är stark. Vad innebär det för uppdraget att vara kristen kyrka i vår tid? Välkommen till ett jubileumsseminarium där vi firar med tårta\, föredrag och samtal om ekumenik i vår tid. Gästföreläsning av Metropolit Geevarghese Coorilos\, ordförande för Kyrkornas världsråds kommision för mission och evangelisation. \nProgram\n13:00 Välkommen till Göteborg\nInledning – SKR 30 år\n13:20 An ecumenical vision for our time\nMetropolit Geevarghese Coorilos (medverkar online).\n14:10 Panelsamtal: Lokalt ekumeniskt arbete i vår tid – möjligheter och utmaningar\nBiskop Susanne Rappman\, biskop i Göteborgs stift\, Svenska kyrkan.\nMarika Palmdahl\, ordförande Göteborgs kristna råd.\nJohannes Magnusson\, Verksamhetsledare\, Pingst utbildning.\nNausikaa Haupt\, samordnare för katolska kyrkofamiljen\, Sveriges kristna råd\nFader Misha Jaksic\, samordnare för ortodoxa kyrkofamiljen\, Sveriges kristna råd\nModerator: Jan Eckerdal\n14:50 Kaffe och födelsedagstårta\n15:20 Gruppsamtal (gruppledning från arbetsgruppen för Ekumenisk teologi)\n16:00 Bön (Sofia Camnerin) \nPlats\nBetlehemskyrkan\, Erik Dahlbergsgatan 11b\, Göteborg.\nTid: kl 13:00-16:30\nArrangörer: Göteborgs kristna råd\, Sveriges kristna råd och Hjärta Göteborg \nDet blir även ett andra jubileumsseminarium i Jönköping 17 november (se separat arrangemang). \n 
URL:https://www.skr.org/arrangemang/24979/
LOCATION:Betlehemskyrkan\, Erik Dahlbergsgatan 11a\, Göteborg\, Sverige
ATTACH;FMTTYPE=image/jpeg:https://www.skr.org/wp-content/uploads/2022/06/jubileum-banner-version-02-scaled.jpg
END:VEVENT
BEGIN:VEVENT
DTSTART;TZID=Europe/Stockholm:20160525T090000
DTEND;TZID=Europe/Stockholm:20160525T163000
DTSTAMP:20260418T135057
CREATED:20160411T070633Z
LAST-MODIFIED:20210130T171442Z
UID:10000032-1464166800-1464193800@www.skr.org
SUMMARY:Utbildningsdag\, konvertiter i asylprocessen
DESCRIPTION:Onsdagen den 25 maj arrangerar Sveriges kristna råd (SKR) en högaktuell utbildningsdag om konvertiter i asylprocessen. Utbildningen riktar sig främst till präster och pastorer och andra i lokala kyrkor som möter personer som vill konvertera till kristendomen under asylprocessen. Hittills har fyra utbildningar ordnats runt om i landet och responsen har varit mycket positiv. Denna gång ordnas utbildningen i Göteborg. \nAtt konvertera till en ny religion är en komplex och inte sällan omfattande process som kräver eftertanke och reflektion. Att möta en person som under asylprocessen önskar konvertera till kristendomen kan vara en utmanande och svår uppgift. Denna utbildningsdag är tänkt att ge dig som präst\, pastor eller annars engagerad redskap och vägledning kring konvertering\, särskilt om den som konverterar vill åberopa sin konversion som asylskäl. \nSynen på konversion varierar inom SKR:s medlemskyrkor och därför kommer dagen att inledas med en kort reflektion kring olika teologiska utgångspunkter. Fokus för denna utbildningsdag ligger dock på de gemensamma utmaningar som vi möter och hur vi som kyrkor\, trots våra olika förhållningssätt\, kan förhålla oss till existerande praxis i asylprocessen. \nEn kort beskrivning av den svenska asylprocessen kommer att ges. Sedan kommer svensk utlänningslagstiftning och praxis kring konvertering i asylprocessen att presenteras. Vi kommer även att titta närmare på en del konkreta fall och dela med oss av goda råd. Helene Hedebris\, stabsjurist från Migrationsverket kommer att finnas på plats. \nSveriges kristna råd står för inbjudan och programmet har planerats av Sveriges kristna råds migrations- och integrationsarbetsgrupp. Det utgår ingen deltagaravgift för dagen men var och en bekostar själv lunch och fika. Resa och boende ordnar och bekostar också var och en själv. \n Anmälan: \nAnmälan sker\, senast den 19 maj\, via följande länk: http://www.bilda.nu/sv/Amne/Cirkelinformation/?circle=777009\nAnmälan är bindande.\n \nFör frågor och mer information:\nInga Johansson\, Equmeniakyrkan och SKR:s arbetsgrupp\, inga.johansson@equmeniakyrkan.se\, 08- 580 031 81 \nInbjudan med program (PDF):\nInbjudan till utbildningsdag om konvertiter Gbg \nVarmt välkomna hälsar\nSveriges kristna råds migrations- och integrationsarbetsgrupp
URL:https://www.skr.org/arrangemang/utbildningsdag-konvertiter-i-asylprocessen-3/
LOCATION:Betlehemskyrkan\, Erik Dahlbergsgatan 11a\, Göteborg\, Sverige
CATEGORIES:Sveriges kristna råd
END:VEVENT
END:VCALENDAR