BEGIN:VCALENDAR
VERSION:2.0
PRODID:-//Sveriges kristna råd - ECPv6.15.18//NONSGML v1.0//EN
CALSCALE:GREGORIAN
METHOD:PUBLISH
X-ORIGINAL-URL:https://www.skr.org
X-WR-CALDESC:Händelser för Sveriges kristna råd
REFRESH-INTERVAL;VALUE=DURATION:PT1H
X-Robots-Tag:noindex
X-PUBLISHED-TTL:PT1H
BEGIN:VTIMEZONE
TZID:Europe/Stockholm
BEGIN:DAYLIGHT
TZOFFSETFROM:+0100
TZOFFSETTO:+0200
TZNAME:CEST
DTSTART:20230326T010000
END:DAYLIGHT
BEGIN:STANDARD
TZOFFSETFROM:+0200
TZOFFSETTO:+0100
TZNAME:CET
DTSTART:20231029T010000
END:STANDARD
BEGIN:DAYLIGHT
TZOFFSETFROM:+0100
TZOFFSETTO:+0200
TZNAME:CEST
DTSTART:20240331T010000
END:DAYLIGHT
BEGIN:STANDARD
TZOFFSETFROM:+0200
TZOFFSETTO:+0100
TZNAME:CET
DTSTART:20241027T010000
END:STANDARD
BEGIN:DAYLIGHT
TZOFFSETFROM:+0100
TZOFFSETTO:+0200
TZNAME:CEST
DTSTART:20250330T010000
END:DAYLIGHT
BEGIN:STANDARD
TZOFFSETFROM:+0200
TZOFFSETTO:+0100
TZNAME:CET
DTSTART:20251026T010000
END:STANDARD
END:VTIMEZONE
BEGIN:VEVENT
DTSTART;TZID=Europe/Stockholm:20240208T093000
DTEND;TZID=Europe/Stockholm:20240208T160000
DTSTAMP:20260419T144025
CREATED:20231114T140428Z
LAST-MODIFIED:20231220T103154Z
UID:10000197-1707384600-1707408000@www.skr.org
SUMMARY:Temadag för institutionssjälavårdare
DESCRIPTION:Anmälan hos Bilda via denna länk: https://www.bilda.nu/arr/1199403/anmal-dig \nOBS! Förlängd anmälningstid\, nytt sista datum är 25 januari 2024. 
URL:https://www.skr.org/arrangemang/temadag-for-institutionssjalavardare-2/
LOCATION:Immanuelskyrkan\, Kungstensgatan 17\, Stockholm\, Sverige
CATEGORIES:Institutionssjälavård
ATTACH;FMTTYPE=image/png:https://www.skr.org/wp-content/uploads/2023/11/inbjudan-m-program-a4-temadag-existentiell-ensamhet.png
END:VEVENT
END:VCALENDAR