BEGIN:VCALENDAR
VERSION:2.0
PRODID:-//Sveriges kristna råd - ECPv6.15.18//NONSGML v1.0//EN
CALSCALE:GREGORIAN
METHOD:PUBLISH
X-WR-CALNAME:Sveriges kristna råd
X-ORIGINAL-URL:https://www.skr.org
X-WR-CALDESC:Händelser för Sveriges kristna råd
REFRESH-INTERVAL;VALUE=DURATION:PT1H
X-Robots-Tag:noindex
X-PUBLISHED-TTL:PT1H
BEGIN:VTIMEZONE
TZID:Europe/Stockholm
BEGIN:DAYLIGHT
TZOFFSETFROM:+0100
TZOFFSETTO:+0200
TZNAME:CEST
DTSTART:20220327T010000
END:DAYLIGHT
BEGIN:STANDARD
TZOFFSETFROM:+0200
TZOFFSETTO:+0100
TZNAME:CET
DTSTART:20221030T010000
END:STANDARD
BEGIN:DAYLIGHT
TZOFFSETFROM:+0100
TZOFFSETTO:+0200
TZNAME:CEST
DTSTART:20230326T010000
END:DAYLIGHT
BEGIN:STANDARD
TZOFFSETFROM:+0200
TZOFFSETTO:+0100
TZNAME:CET
DTSTART:20231029T010000
END:STANDARD
BEGIN:DAYLIGHT
TZOFFSETFROM:+0100
TZOFFSETTO:+0200
TZNAME:CEST
DTSTART:20240331T010000
END:DAYLIGHT
BEGIN:STANDARD
TZOFFSETFROM:+0200
TZOFFSETTO:+0100
TZNAME:CET
DTSTART:20241027T010000
END:STANDARD
END:VTIMEZONE
BEGIN:VEVENT
DTSTART;TZID=Europe/Stockholm:20231109T090000
DTEND;TZID=Europe/Stockholm:20231109T160000
DTSTAMP:20260422T122727
CREATED:20231006T075107Z
LAST-MODIFIED:20231106T061751Z
UID:10000194-1699520400-1699545600@www.skr.org
SUMMARY:Rådsmöte om institutionssjälavård
DESCRIPTION:Sveriges kristna råd inbjuder till rådsmöte på temat\n”Att vara kyrka på annan arena: Om institutionssjälavård\, ekumeniskt arbete och kyrkornas roll i samhället.” \nTid: 9 november kl 09.00-16.00 \nPlats: Gustaf Vasa församling\, Västmannagatan 63\, 1 tr\, Stockholm \nI Sveriges kristna råds rådsmöten möts kyrkorna för bön\, gemenskap och samtal om aktuella frågor. Mötets karaktär är öppet samråd. Vissa frågor kan sedan föras till SKRs styrelse för beslut. \nAnmälningstiden för detta arrangemang har gått ut.
URL:https://www.skr.org/arrangemang/radsmote-institutionssjalavard/
CATEGORIES:Institutionssjälavård
ATTACH;FMTTYPE=image/png:https://www.skr.org/wp-content/uploads/2023/10/radsmote-e1696578113849.png
END:VEVENT
END:VCALENDAR